BEGIN:VCALENDAR
VERSION:2.0
PRODID:-//ChamberMaster//Event Calendar 2.0//EN
METHOD:PUBLISH
X-PUBLISHED-TTL:P3D
REFRESH-INTERVAL:P3D
CALSCALE:GREGORIAN
BEGIN:VEVENT
DTSTART:20171116T233000Z
DTEND:20171117T030000Z
X-MICROSOFT-CDO-ALLDAYEVENT:FALSE
SUMMARY:Friends of Bluebonnet Opry presents Bobby Flores
DESCRIPTION:Funds donated to Hospice
X-ALT-DESC;FMTTYPE=text/html:Funds donated to Hospice
LOCATION:Silver Wings Ballroom 4100 Hwy 105 Brenham\, TX 77833
UID:e.2500.3661
SEQUENCE:3
DTSTAMP:20260423T114443Z
URL:https://business.bellville.com/events/details/friends-of-bluebonnet-opry-presents-bobby-flores-3661
END:VEVENT

END:VCALENDAR
