BEGIN:VCALENDAR
VERSION:2.0
PRODID:-//ChamberMaster//Event Calendar 2.0//EN
METHOD:PUBLISH
X-PUBLISHED-TTL:P3D
REFRESH-INTERVAL:P3D
CALSCALE:GREGORIAN
BEGIN:VEVENT
DTSTART:20170129T010000Z
DTEND:20170129T040000Z
X-MICROSOFT-CDO-ALLDAYEVENT:FALSE
SUMMARY:Friends of Bellville- Party
DESCRIPTION:Join us for a fun night at the Turnverein Pavilion! Dinner catered by Kenney Store and Entertainment by Louie Crapitto and Cowboy Jazz Band
X-ALT-DESC;FMTTYPE=text/html:Join us for a fun night at the Turnverein Pavilion! Dinner catered by Kenney Store and Entertainment by Louie Crapitto and Cowboy Jazz Band
LOCATION:FM 529 at Amthor Street Bellville City Park
UID:e.2500.2600
SEQUENCE:3
DTSTAMP:20260424T034916Z
URL:https://business.bellville.com/events/details/friends-of-bellville-party-2600
END:VEVENT

END:VCALENDAR
