BEGIN:VCALENDAR
VERSION:2.0
PRODID:-//ChamberMaster//Event Calendar 2.0//EN
METHOD:PUBLISH
X-PUBLISHED-TTL:P3D
REFRESH-INTERVAL:P3D
CALSCALE:GREGORIAN
BEGIN:VEVENT
DTSTART:20161008T010000Z
DTEND:20161008T040000Z
X-MICROSOFT-CDO-ALLDAYEVENT:FALSE
SUMMARY:Friday Night Acoustics
DESCRIPTION:Mason Marek Music and Food!
X-ALT-DESC;FMTTYPE=text/html:Mason Marek Music and Food!
LOCATION:Emery's Buffalo Creek
UID:e.2500.1782
SEQUENCE:3
DTSTAMP:20260424T083927Z
URL:https://business.bellville.com/events/details/friday-night-acoustics-1782
END:VEVENT

END:VCALENDAR
