BEGIN:VCALENDAR
VERSION:2.0
PRODID:-//ChamberMaster//Event Calendar 2.0//EN
METHOD:PUBLISH
X-PUBLISHED-TTL:P3D
REFRESH-INTERVAL:P3D
CALSCALE:GREGORIAN
BEGIN:VEVENT
DTSTART:20180816T230000Z
DTEND:20180817T010000Z
X-MICROSOFT-CDO-ALLDAYEVENT:FALSE
SUMMARY:FREE Stop the Bleed & Active Shooter Training
DESCRIPTION:For the Community\n\nAll Ages Welcome
X-ALT-DESC;FMTTYPE=text/html:For the Community<br />\nAll Ages Welcome
LOCATION:Wallis Community Rm Bldg C 6810 Guyler St Wallis\, TX 77485
UID:e.2500.6920
SEQUENCE:3
DTSTAMP:20260422T204156Z
URL:https://business.bellville.com/events/details/free-stop-the-bleed-active-shooter-training-6920
END:VEVENT

END:VCALENDAR
