BEGIN:VCALENDAR
VERSION:2.0
PRODID:-//ChamberMaster//Event Calendar 2.0//EN
METHOD:PUBLISH
X-PUBLISHED-TTL:P3D
REFRESH-INTERVAL:P3D
CALSCALE:GREGORIAN
BEGIN:VEVENT
DTSTART:20180807T230000Z
DTEND:20180808T010000Z
X-MICROSOFT-CDO-ALLDAYEVENT:FALSE
SUMMARY:FREE Stop the Bleed & Active Shooter Training
DESCRIPTION:For the Community\n\nAll Ages Welcome
X-ALT-DESC;FMTTYPE=text/html:For the Community<br />\nAll Ages Welcome
LOCATION:Bellville United Methodist Church 234 S. Masonic Bellville TX 77418
UID:e.2500.6917
SEQUENCE:3
DTSTAMP:20260422T221612Z
URL:https://business.bellville.com/events/details/free-stop-the-bleed-active-shooter-training-6917
END:VEVENT

END:VCALENDAR
