BEGIN:VCALENDAR
VERSION:2.0
PRODID:-//ChamberMaster//Event Calendar 2.0//EN
METHOD:PUBLISH
X-PUBLISHED-TTL:P3D
REFRESH-INTERVAL:P3D
CALSCALE:GREGORIAN
BEGIN:VEVENT
DTSTART:20160430T140000Z
DTEND:20160430T170000Z
X-MICROSOFT-CDO-ALLDAYEVENT:FALSE
SUMMARY:Free shredding!!
DESCRIPTION:Free on site shredding!\n\n\n\nAt Austin County State Bank Bellville\n\n\n\nLimit 10 boxes ~ Paper only
X-ALT-DESC;FMTTYPE=text/html:<br />\n<br />\n<span style="color: rgb(255\, 0\, 0)\;">Free on site shredding!</span><br />\n<br />\n<span style="color: rgb(0\, 0\, 255)\;"><span style="font-size: 20px\;">At Austin County State Bank Bellville</span></span><br />\n<br />\nLimit 10 boxes ~ Paper only<br />\n&nbsp\;
LOCATION:Austin County State Bank Bellville
UID:e.2500.1504
SEQUENCE:3
DTSTAMP:20260424T173048Z
URL:https://business.bellville.com/events/details/free-shredding-04-30-2016-1504
END:VEVENT

END:VCALENDAR
