BEGIN:VCALENDAR
VERSION:2.0
PRODID:-//ChamberMaster//Event Calendar 2.0//EN
METHOD:PUBLISH
X-PUBLISHED-TTL:P3D
REFRESH-INTERVAL:P3D
CALSCALE:GREGORIAN
BEGIN:VEVENT
DTSTART:20180817T140000Z
DTEND:20180817T170000Z
X-MICROSOFT-CDO-ALLDAYEVENT:FALSE
SUMMARY:Free School Supplies for Children in Need
DESCRIPTION:School Supplies for Pre-K thru High School
X-ALT-DESC;FMTTYPE=text/html:School Supplies for Pre-K thru High School
LOCATION:Bellville United Methodist Church 234 S. Masonic Bellville\, TX 77418
UID:e.2500.6916
SEQUENCE:3
DTSTAMP:20260422T223617Z
URL:https://business.bellville.com/events/details/free-school-supplies-for-children-in-need-6916
END:VEVENT

END:VCALENDAR
