BEGIN:VCALENDAR
VERSION:2.0
PRODID:-//ChamberMaster//Event Calendar 2.0//EN
METHOD:PUBLISH
X-PUBLISHED-TTL:P3D
REFRESH-INTERVAL:P3D
CALSCALE:GREGORIAN
BEGIN:VEVENT
DTSTART:20170816T233000Z
DTEND:20170817T020000Z
X-MICROSOFT-CDO-ALLDAYEVENT:FALSE
SUMMARY:Free Back to School Dinner and a Movie
DESCRIPTION:Disney Pixar\n\n"INSIDE OUT"
X-ALT-DESC;FMTTYPE=text/html:Disney Pixar<br />\n&quot\;INSIDE OUT&quot\;
LOCATION:Christian City Fellowship Church
UID:e.2500.3580
SEQUENCE:3
DTSTAMP:20260423T162215Z
URL:https://business.bellville.com/events/details/free-back-to-school-dinner-and-a-movie-3580
END:VEVENT

END:VCALENDAR
