BEGIN:VCALENDAR
VERSION:2.0
PRODID:-//ChamberMaster//Event Calendar 2.0//EN
METHOD:PUBLISH
X-PUBLISHED-TTL:P3D
REFRESH-INTERVAL:P3D
CALSCALE:GREGORIAN
BEGIN:VEVENT
DTSTART:20180216T010000Z
DTEND:20180216T023000Z
X-MICROSOFT-CDO-ALLDAYEVENT:FALSE
SUMMARY:For Your Information…presents Texas Snakes
DESCRIPTION:For Your Information presents Texas Snakes Clint Pustejovsky has been studying snakes since age 5\, and he's bringing some of his friends! His motto? "We give snakes the respect they deserve." Thursday\, February 15\, 2018 at 7:00 p.m. Round Top Family Library 206 W. Mill St. Round Top \, TX 78954 (979) 249-2700 www.ilovetoread.org FREE EVENT
X-ALT-DESC;FMTTYPE=text/html:For Your Information&hellip\;presents Texas Snakes Clint Pustejovsky has been studying snakes since age 5\, and he&rsquo\;s bringing some of his friends! His motto? &ldquo\;We give snakes the respect they deserve.&rdquo\; Thursday\, February 15\, 2018 at 7:00 p.m. Round Top Family Library 206 W. Mill St. Round Top \, TX 78954 (979) 249-2700 www.ilovetoread.org FREE EVENT
LOCATION:Round Top Family Library 206 W. Mill St. Round Top \, TX 78954
UID:e.2500.3725
SEQUENCE:3
DTSTAMP:20260423T070854Z
URL:https://business.bellville.com/events/details/for-your-information-presents-texas-snakes-3725
END:VEVENT

END:VCALENDAR
