BEGIN:VCALENDAR
VERSION:2.0
PRODID:-//ChamberMaster//Event Calendar 2.0//EN
METHOD:PUBLISH
X-PUBLISHED-TTL:P3D
REFRESH-INTERVAL:P3D
CALSCALE:GREGORIAN
BEGIN:VEVENT
DTSTART:20170217T010000Z
DTEND:20170217T020000Z
X-MICROSOFT-CDO-ALLDAYEVENT:FALSE
SUMMARY:For Your Information… presents Ralph Fisher
DESCRIPTION:For Your Information  presents Ralph Fisher Come hear Ralph Fisher talk about his life as The Buzzard Whisperer\, adventures with Bee Cave Bob and a Rodeo Clown and meet several of his live friends. Ralph is fun\, lively\, entertaining and informative. Thursday\, February 16 2017 7:00 p.m. Round Top Family Library 206 W. Mill St. Round Top\, Tx 78954 www.ilovetoread.org Admission is free!
X-ALT-DESC;FMTTYPE=text/html:For Your Information&hellip\; presents Ralph Fisher Come hear Ralph Fisher talk about his life as The Buzzard Whisperer\, adventures with Bee Cave Bob and a Rodeo Clown and meet several of his live friends. Ralph is fun\, lively\, entertaining and informative. Thursday\, February 16 2017 7:00 p.m. Round Top Family Library 206 W. Mill St. Round Top\, Tx 78954 www.ilovetoread.org Admission is free!
LOCATION:Round Top Family Library 206 W. Mill St. Round Top\, Tx 78954
UID:e.2500.3188
SEQUENCE:3
DTSTAMP:20260424T034624Z
URL:https://business.bellville.com/events/details/for-your-information-presents-ralph-fisher-3188
END:VEVENT

END:VCALENDAR
