BEGIN:VCALENDAR
VERSION:2.0
PRODID:-//ChamberMaster//Event Calendar 2.0//EN
METHOD:PUBLISH
X-PUBLISHED-TTL:P3D
REFRESH-INTERVAL:P3D
CALSCALE:GREGORIAN
BEGIN:VEVENT
DTSTART:20160123T003000Z
DTEND:20160123T043000Z
X-MICROSOFT-CDO-ALLDAYEVENT:FALSE
SUMMARY:Focusing Families Gala
DESCRIPTION:Focusing Families' annual Fundraiser. Focusing Families Crisis Center is a non-profit organization committed to strengthening individuals\, families and communities through education\, prevention and intervention to eliminate Family Violence\, Sexual Assault\, and other crisis issues.
X-ALT-DESC;FMTTYPE=text/html:Focusing Families&#39\;&nbsp\;annual Fundraiser.&nbsp\;Focusing Families Crisis Center is a non-profit organization committed to strengthening individuals\, families and communities through education\, prevention and intervention to eliminate Family Violence\, Sexual Assault\, and other crisis issues.
LOCATION:Austin County Fair Convention & Expo Center: 1076 E Hill\, Bellville\, Texas 77418
UID:e.2500.274
SEQUENCE:3
DTSTAMP:20260424T221337Z
URL:https://business.bellville.com/events/details/focusing-families-gala-01-22-2016-274
END:VEVENT

END:VCALENDAR
