BEGIN:VCALENDAR
VERSION:2.0
PRODID:-//ChamberMaster//Event Calendar 2.0//EN
METHOD:PUBLISH
X-PUBLISHED-TTL:P3D
REFRESH-INTERVAL:P3D
CALSCALE:GREGORIAN
BEGIN:VEVENT
DTSTART:20170128T003000Z
DTEND:20170128T050000Z
X-MICROSOFT-CDO-ALLDAYEVENT:FALSE
SUMMARY:Focusing Families Fundraiser Dinner and Auction
DESCRIPTION:Beyond the Mask - Exposing Domestic Violence and Sexual Assault\n\n(benefiting victims of domestic violence and sexual assault)\n\n\n\nMUSIC BY\n\nZydeco Joseph & the H-Town Players (sponsored by T&L Maintenance)
X-ALT-DESC;FMTTYPE=text/html:Beyond the Mask - Exposing Domestic Violence and Sexual Assault<br />\n(benefiting victims of domestic violence and sexual assault)<br />\n<br />\nMUSIC BY<br />\nZydeco Joseph &amp\; the H-Town Players (sponsored by T&amp\;L Maintenance)
LOCATION:Austin County Fairgrounds Bellville\, TX
UID:e.2500.3164
SEQUENCE:3
DTSTAMP:20260424T034519Z
URL:https://business.bellville.com/events/details/focusing-families-fundraiser-dinner-and-auction-3164
END:VEVENT

END:VCALENDAR
