BEGIN:VCALENDAR
VERSION:2.0
PRODID:-//ChamberMaster//Event Calendar 2.0//EN
METHOD:PUBLISH
X-PUBLISHED-TTL:P3D
REFRESH-INTERVAL:P3D
CALSCALE:GREGORIAN
BEGIN:VEVENT
DTSTART:20190126T003000Z
DTEND:20190126T023000Z
X-MICROSOFT-CDO-ALLDAYEVENT:FALSE
SUMMARY:Focusing Families Fundraiser
DESCRIPTION:Featuring Susie McEntire
X-ALT-DESC;FMTTYPE=text/html:Featuring Susie McEntire
LOCATION:Austin County Fairgrounds Bellville TX 77418
UID:e.2500.7023
SEQUENCE:3
DTSTAMP:20260422T120812Z
URL:https://business.bellville.com/events/details/focusing-families-fundraiser-7023
END:VEVENT

END:VCALENDAR
