BEGIN:VCALENDAR
VERSION:2.0
PRODID:-//ChamberMaster//Event Calendar 2.0//EN
METHOD:PUBLISH
X-PUBLISHED-TTL:P3D
REFRESH-INTERVAL:P3D
CALSCALE:GREGORIAN
BEGIN:VEVENT
DTSTART:20180912T160000Z
DTEND:20180912T180000Z
X-MICROSOFT-CDO-ALLDAYEVENT:FALSE
SUMMARY:Focusing Families BBQ Baked Potato Fundraiser
DESCRIPTION:
X-ALT-DESC;FMTTYPE=text/html:
LOCATION:St. John Lutheran Church 520 North Holland Bellville\, TX 77418
UID:e.2500.6947
SEQUENCE:3
DTSTAMP:20260422T204728Z
URL:https://business.bellville.com/events/details/focusing-families-bbq-baked-potato-fundraiser-6947
END:VEVENT

END:VCALENDAR
