BEGIN:VCALENDAR
VERSION:2.0
PRODID:-//ChamberMaster//Event Calendar 2.0//EN
METHOD:PUBLISH
X-PUBLISHED-TTL:P3D
REFRESH-INTERVAL:P3D
CALSCALE:GREGORIAN
BEGIN:VEVENT
DTSTART:20160922T160000Z
DTEND:20160922T180000Z
X-MICROSOFT-CDO-ALLDAYEVENT:FALSE
SUMMARY:Focusing Families BBQ Baked Potato Fundraiser
DESCRIPTION:
X-ALT-DESC;FMTTYPE=text/html:
LOCATION:Railroad Depot 11th and Austin St Hempstead TX 77445
UID:e.2500.1752
SEQUENCE:3
DTSTAMP:20260424T094454Z
URL:https://business.bellville.com/events/details/focusing-families-bbq-baked-potato-fundraiser-1752
END:VEVENT

END:VCALENDAR
