BEGIN:VCALENDAR
VERSION:2.0
PRODID:-//ChamberMaster//Event Calendar 2.0//EN
METHOD:PUBLISH
X-PUBLISHED-TTL:P3D
REFRESH-INTERVAL:P3D
CALSCALE:GREGORIAN
BEGIN:VEVENT
DTSTART;VALUE=DATE:20170828
DTEND;VALUE=DATE:20170829
TRANSP:TRANSPARENT
X-MICROSOFT-CDO-ALLDAYEVENT:TRUE
SUMMARY:Fitness Athletic Center Fall 2017 - Spring 2018 Classes Begin
DESCRIPTION:
X-ALT-DESC;FMTTYPE=text/html:
LOCATION:
UID:e.2500.3589
SEQUENCE:3
DTSTAMP:20260423T174629Z
URL:https://business.bellville.com/events/details/fitness-athletic-center-fall-2017-spring-2018-classes-begin-3589
END:VEVENT

END:VCALENDAR
