BEGIN:VCALENDAR
VERSION:2.0
PRODID:-//ChamberMaster//Event Calendar 2.0//EN
METHOD:PUBLISH
X-PUBLISHED-TTL:P3D
REFRESH-INTERVAL:P3D
CALSCALE:GREGORIAN
BEGIN:VEVENT
DTSTART:20180511T140000Z
DTEND:20180511T210000Z
X-MICROSOFT-CDO-ALLDAYEVENT:FALSE
SUMMARY:First National Bank of Bellville - Mother's Day Surprise
DESCRIPTION:
X-ALT-DESC;FMTTYPE=text/html:
LOCATION:
UID:e.2500.6717
SEQUENCE:3
DTSTAMP:20260423T015918Z
URL:https://business.bellville.com/events/details/first-national-bank-of-bellville-mother-s-day-surprise-6717
END:VEVENT

END:VCALENDAR
