BEGIN:VCALENDAR
VERSION:2.0
PRODID:-//ChamberMaster//Event Calendar 2.0//EN
METHOD:PUBLISH
X-PUBLISHED-TTL:P3D
REFRESH-INTERVAL:P3D
CALSCALE:GREGORIAN
BEGIN:VEVENT
DTSTART:20171222T150000Z
DTEND:20171222T220000Z
X-MICROSOFT-CDO-ALLDAYEVENT:FALSE
SUMMARY:First National Bank of Bellville Christmas Open House
DESCRIPTION:
X-ALT-DESC;FMTTYPE=text/html:
LOCATION:
UID:e.2500.3711
SEQUENCE:3
DTSTAMP:20260423T102503Z
URL:https://business.bellville.com/events/details/first-national-bank-of-bellville-christmas-open-house-3711
END:VEVENT

END:VCALENDAR
