BEGIN:VCALENDAR
VERSION:2.0
PRODID:-//ChamberMaster//Event Calendar 2.0//EN
METHOD:PUBLISH
X-PUBLISHED-TTL:P3D
REFRESH-INTERVAL:P3D
CALSCALE:GREGORIAN
BEGIN:VEVENT
DTSTART:20180615T140000Z
DTEND:20180615T203000Z
X-MICROSOFT-CDO-ALLDAYEVENT:FALSE
SUMMARY:First National Bank Father's Day Celebration
DESCRIPTION:Special Gift for all Dad's
X-ALT-DESC;FMTTYPE=text/html:Special Gift for all Dad&#39\;s
LOCATION:Bellville Branch Waller Branch Wallis Branch
UID:e.2500.6880
SEQUENCE:3
DTSTAMP:20260423T014800Z
URL:https://business.bellville.com/events/details/first-national-bank-father-s-day-celebration-6880
END:VEVENT

END:VCALENDAR
