BEGIN:VCALENDAR
VERSION:2.0
PRODID:-//ChamberMaster//Event Calendar 2.0//EN
METHOD:PUBLISH
X-PUBLISHED-TTL:P3D
REFRESH-INTERVAL:P3D
CALSCALE:GREGORIAN
BEGIN:VEVENT
DTSTART:20180705T003000Z
DTEND:20180705T013000Z
X-MICROSOFT-CDO-ALLDAYEVENT:FALSE
SUMMARY:Fireworks @ All Around Cowboy Church
DESCRIPTION:
X-ALT-DESC;FMTTYPE=text/html:
LOCATION:
UID:e.2500.6896
SEQUENCE:3
DTSTAMP:20260422T223224Z
URL:https://business.bellville.com/events/details/fireworks-all-around-cowboy-church-6896
END:VEVENT

END:VCALENDAR
