BEGIN:VCALENDAR
VERSION:2.0
PRODID:-//ChamberMaster//Event Calendar 2.0//EN
METHOD:PUBLISH
X-PUBLISHED-TTL:P3D
REFRESH-INTERVAL:P3D
CALSCALE:GREGORIAN
BEGIN:VEVENT
DTSTART:20181103T140000Z
DTEND:20181103T220000Z
X-MICROSOFT-CDO-ALLDAYEVENT:FALSE
SUMMARY:Father of Texas Celebration
DESCRIPTION:
X-ALT-DESC;FMTTYPE=text/html:
LOCATION:San Felipe de Austin State Historic Site 220 2nd Street San Felipe\, TX 77473
UID:e.2500.6990
SEQUENCE:3
DTSTAMP:20260422T155607Z
URL:https://business.bellville.com/events/details/father-of-texas-celebration-6990
END:VEVENT

END:VCALENDAR
