BEGIN:VCALENDAR
VERSION:2.0
PRODID:-//ChamberMaster//Event Calendar 2.0//EN
METHOD:PUBLISH
X-PUBLISHED-TTL:P3D
REFRESH-INTERVAL:P3D
CALSCALE:GREGORIAN
BEGIN:VEVENT
DTSTART:20190203T200000Z
DTEND:20190203T230000Z
X-MICROSOFT-CDO-ALLDAYEVENT:FALSE
SUMMARY:Fall in Love Bridal Show
DESCRIPTION:Annual Fall in Love Bridal Show Sip\,taste\, and shop among many favorite local vendors and shops! Brides enter for a chance to win a Cash prize!
X-ALT-DESC;FMTTYPE=text/html:Annual Fall in Love Bridal Show Sip\,taste\, and shop among many favorite local vendors and shops! Brides enter for a chance to win a Cash prize!
LOCATION:Emery's Buffalo Creek Winery & Weddings
UID:e.2500.7022
SEQUENCE:3
DTSTAMP:20260422T120921Z
URL:https://business.bellville.com/events/details/fall-in-love-bridal-show-7022
END:VEVENT

END:VCALENDAR
