BEGIN:VCALENDAR
VERSION:2.0
PRODID:-//ChamberMaster//Event Calendar 2.0//EN
METHOD:PUBLISH
X-PUBLISHED-TTL:P3D
REFRESH-INTERVAL:P3D
CALSCALE:GREGORIAN
BEGIN:VEVENT
DTSTART:20180909T163000Z
DTEND:20180909T193000Z
X-MICROSOFT-CDO-ALLDAYEVENT:FALSE
SUMMARY:Fall Festival - Industry Immaculate Conception
DESCRIPTION:Fall Festival - Industry Immaculate Conception Catholic Church Sunday\, September 9\, 2018 from 11:30 a.m. - 2:30 p.m. @ Industry Firemen's Hall Pork Steak Dinner w/ all the trimmings Homemade Desserts - Dine In or Take Out FREE WILL Donation for Meal & Dessert Live Music by DAVID LEWIS BAND Raffle Drawing for over 30 prizes\, Silent Auction\, Cake Walk & much more Thank you for your support.
X-ALT-DESC;FMTTYPE=text/html:Fall Festival - Industry Immaculate Conception Catholic Church Sunday\, September 9\, 2018 from 11:30 a.m. - 2:30 p.m. @ Industry Firemen&#39\;s Hall Pork Steak Dinner w/ all the trimmings Homemade Desserts - Dine In or Take Out FREE WILL Donation for Meal &amp\; Dessert Live Music by DAVID LEWIS BAND Raffle Drawing for over 30 prizes\, Silent Auction\, Cake Walk &amp\; much more Thank you for your support.
LOCATION:Industry Firemen's Hall Industry\, TX
UID:e.2500.6941
SEQUENCE:3
DTSTAMP:20260422T204446Z
URL:https://business.bellville.com/events/details/fall-festival-industry-immaculate-conception-09-09-2018-6941
END:VEVENT

END:VCALENDAR
