BEGIN:VCALENDAR
VERSION:2.0
PRODID:-//ChamberMaster//Event Calendar 2.0//EN
METHOD:PUBLISH
X-PUBLISHED-TTL:P3D
REFRESH-INTERVAL:P3D
CALSCALE:GREGORIAN
BEGIN:VEVENT
DTSTART:20180606T030000Z
DTEND:20180607T190000Z
X-MICROSOFT-CDO-ALLDAYEVENT:FALSE
SUMMARY:FALCON Summer Sessions
DESCRIPTION:Faith Academy FALCON Center Summer Sessions Vision Therapy and Primitive Reflexes that help work balance\, coordination\, focus\, and attention span. Research-based tools that will help students with shyness\, fear\, anger and defiance. Sessions are 50 minutes long.
X-ALT-DESC;FMTTYPE=text/html:Faith Academy FALCON Center Summer Sessions Vision Therapy and Primitive Reflexes that help work balance\, coordination\, focus\, and attention span. Research-based tools that will help students with shyness\, fear\, anger and defiance. Sessions are 50 minutes long.
LOCATION:Faith Academy FALCON Center
UID:e.2500.6722
SEQUENCE:3
DTSTAMP:20260423T014526Z
URL:https://business.bellville.com/events/details/falcon-summer-sessions-6722
END:VEVENT

END:VCALENDAR
