BEGIN:VCALENDAR
VERSION:2.0
PRODID:-//ChamberMaster//Event Calendar 2.0//EN
METHOD:PUBLISH
X-PUBLISHED-TTL:P3D
REFRESH-INTERVAL:P3D
CALSCALE:GREGORIAN
BEGIN:VEVENT
DTSTART:20180613T030000Z
DTEND:20180614T190000Z
X-MICROSOFT-CDO-ALLDAYEVENT:FALSE
SUMMARY:FALCON Summer Sessions
DESCRIPTION:Faith Academy Bellville FALCON Center Summer Sessions. Vision Therapy and Primitive Reflexes that help work balance\, coordination\, focus and attention span. Researched-based tools that will help students with shyness\, fear\, anger and defiance. Each session will be 50 minutes.
X-ALT-DESC;FMTTYPE=text/html:Faith Academy Bellville FALCON Center Summer Sessions. Vision Therapy and Primitive Reflexes that help work balance\, coordination\, focus and attention span. Researched-based tools that will help students with shyness\, fear\, anger and defiance. Each session will be 50 minutes.
LOCATION:Faith Academy FALCON Center
UID:e.2500.6723
SEQUENCE:3
DTSTAMP:20260423T000310Z
URL:https://business.bellville.com/events/details/falcon-summer-sessions-06-12-2018-6723
END:VEVENT

END:VCALENDAR
