BEGIN:VCALENDAR
VERSION:2.0
PRODID:-//ChamberMaster//Event Calendar 2.0//EN
METHOD:PUBLISH
X-PUBLISHED-TTL:P3D
REFRESH-INTERVAL:P3D
CALSCALE:GREGORIAN
BEGIN:VEVENT
DTSTART;VALUE=DATE:20180514
DTEND;VALUE=DATE:20180526
TRANSP:TRANSPARENT
X-MICROSOFT-CDO-ALLDAYEVENT:TRUE
SUMMARY:FALCON Summer Session Sign-up
DESCRIPTION:Faith Academy Bellville FALCON Center Summer Sessions. Vision Therapy and Primitive Reflexes that help work balance\, coordination\, focus and attention span. Researched-based tools that will help students with shyness\, fear\, anger and defiance. Each session will be 50 minutes. We will offer sessions Tuesdays\, Wednesdays and Thursdays throughout the summer. Closed 4th of July week.
X-ALT-DESC;FMTTYPE=text/html:Faith Academy Bellville FALCON Center Summer Sessions. Vision Therapy and Primitive Reflexes that help work balance\, coordination\, focus and attention span. Researched-based tools that will help students with shyness\, fear\, anger and defiance. Each session will be 50 minutes. We will offer sessions Tuesdays\, Wednesdays and Thursdays throughout the summer. Closed 4th of July week.
LOCATION:FAITH Academy Bellville FALCON Center
UID:e.2500.6728
SEQUENCE:3
DTSTAMP:20260423T033503Z
URL:https://business.bellville.com/events/details/falcon-summer-session-sign-up-6728
END:VEVENT

END:VCALENDAR
