BEGIN:VCALENDAR
VERSION:2.0
PRODID:-//ChamberMaster//Event Calendar 2.0//EN
METHOD:PUBLISH
X-PUBLISHED-TTL:P3D
REFRESH-INTERVAL:P3D
CALSCALE:GREGORIAN
BEGIN:VEVENT
DTSTART:20160213T230000Z
DTEND:20160214T040000Z
X-MICROSOFT-CDO-ALLDAYEVENT:FALSE
SUMMARY:Faith Academy's 17th Annual Night of Knights
DESCRIPTION:The Night of Knights is Faith Academy's primary annual fund raising event. The event features a live and silent auction\, great food\, and musical entertainment. Parents\, show your support by donating auction items\, decorating a table\, assisting with the student-created class projects\, and selling raffle tickets. This event is not exclusive to members of Faith Academy and all are welcome to attend!
X-ALT-DESC;FMTTYPE=text/html:<span style="font-family:arial\;"><span style="color: rgb(68\, 54\, 52)\; line-height: 18.2px\;">The Night of Knights is Faith Academy&#39\;s primary annual fund raising event. The event features a live and silent auction\, great food\, and musical entertainment. Parents\, sho</span><span style="color: rgb(68\, 54\, 52)\; line-height: 18.2px\;">w your support by donating auction items\, decorating a table\,&nbsp\;</span><span style="color: rgb(68\, 54\, 52)\; line-height: 18.2px\;">assisting</span><span style="color: rgb(68\, 54\, 52)\; line-height: 18.2px\;">&nbsp\;with the student-created class projects\, and selling raffle tickets. This event is not exclusive to members of Faith Academy and all are welcome to attend!</span></span>
LOCATION:Austin County Fair Convention & Expo Center: Hwy 159 East\, Bellville\, Texas
UID:e.2500.272
SEQUENCE:3
DTSTAMP:20260424T221824Z
URL:https://business.bellville.com/events/details/faith-academy-s-17th-annual-night-of-knights-02-13-2016-272
END:VEVENT

END:VCALENDAR
