BEGIN:VCALENDAR
VERSION:2.0
PRODID:-//ChamberMaster//Event Calendar 2.0//EN
METHOD:PUBLISH
X-PUBLISHED-TTL:P3D
REFRESH-INTERVAL:P3D
CALSCALE:GREGORIAN
BEGIN:VEVENT
DTSTART:20190209T233000Z
DTEND:20190210T033000Z
X-MICROSOFT-CDO-ALLDAYEVENT:FALSE
SUMMARY:Faith Academy Night of Knights Gala
DESCRIPTION:"A Knight Under the Stars" Semi-Formal Fundraiser Meal & Silent Auction 5:30 p.m. Live Auction 7:00 p.m. Purchase tickets at Faith Academy or at the door.
X-ALT-DESC;FMTTYPE=text/html:&quot\;A Knight Under the Stars&quot\; Semi-Formal Fundraiser Meal &amp\; Silent Auction 5:30 p.m. Live Auction 7:00 p.m. Purchase tickets at Faith Academy or at the door.
LOCATION:Austin County Fairgrounds Expo Center
UID:e.2500.7034
SEQUENCE:3
DTSTAMP:20260422T121240Z
URL:https://business.bellville.com/events/details/faith-academy-night-of-knights-gala-7034
END:VEVENT

END:VCALENDAR
