BEGIN:VCALENDAR
VERSION:2.0
PRODID:-//ChamberMaster//Event Calendar 2.0//EN
METHOD:PUBLISH
X-PUBLISHED-TTL:P3D
REFRESH-INTERVAL:P3D
CALSCALE:GREGORIAN
BEGIN:VEVENT
DTSTART:20171214T180000Z
DTEND:20171214T190000Z
X-MICROSOFT-CDO-ALLDAYEVENT:FALSE
SUMMARY:Experience Serenity in Bellville
DESCRIPTION:Complimentary lunch and tour
X-ALT-DESC;FMTTYPE=text/html:Complimentary lunch and tour
LOCATION:Serenity Retreat 953 Memory Lane Bellville\, TX 77418
UID:e.2500.3678
SEQUENCE:3
DTSTAMP:20260423T114029Z
URL:https://business.bellville.com/events/details/experience-serenity-in-bellville-3678
END:VEVENT

END:VCALENDAR
