BEGIN:VCALENDAR
VERSION:2.0
PRODID:-//ChamberMaster//Event Calendar 2.0//EN
METHOD:PUBLISH
X-PUBLISHED-TTL:P3D
REFRESH-INTERVAL:P3D
CALSCALE:GREGORIAN
BEGIN:VEVENT
DTSTART:20170118T150000Z
DTEND:20170118T180000Z
X-MICROSOFT-CDO-ALLDAYEVENT:FALSE
SUMMARY:Every Child Has A Chance .. It's YOU!
DESCRIPTION:CASA for Kids of South Central Texas advocates for the best interests of abused and neglected children in court through the training and support of community volunteers (CASAs). \n\nWe are in need of 15-20 volunteers to be serving all of the children in CPS custody that we advocate for.  Our Court Appointed Special Advocates are the eyes and ears for the court\, and speak up for the best interst of the child.\n\nIn 2015\, we served 183 children in our four county service area - Austin\, Colorado\, Waller & Washington.
X-ALT-DESC;FMTTYPE=text/html:<p style="text-align: justify\;"><span style="font-family: tahoma\,sans-serif\; font-size: 14pt\;">CASA for Kids of South Central Texas advocates for the best interests of abused and neglected children in court through the training and support of community volunteers (CASAs).&nbsp\;<br />\nWe are in need of 15-20 volunteers to be serving all of the children&nbsp\;in CPS custody that we advocate for.&nbsp\; Our Court Appointed Special Advocates are the eyes and ears for the court\, and speak up for the best interst of the child.<br />\nIn 2015\, we served 183 children in our four county service area - Austin\, Colorado\, Waller &amp\; Washington. &nbsp\; </span></p>\n
LOCATION:TBA - location will be announced Training is typically held at our office in Brenham\, but since we serve 4 counties we wish to accomodate the best we can. If there is a group of 4 or more\, we will come to you!
UID:e.2500.3168
SEQUENCE:3
DTSTAMP:20260424T034511Z
URL:https://business.bellville.com/events/details/every-child-has-a-chance-it-s-you-3168
END:VEVENT

END:VCALENDAR
