BEGIN:VCALENDAR
VERSION:2.0
PRODID:-//ChamberMaster//Event Calendar 2.0//EN
METHOD:PUBLISH
X-PUBLISHED-TTL:P3D
REFRESH-INTERVAL:P3D
CALSCALE:GREGORIAN
BEGIN:VEVENT
DTSTART:20180905T140000Z
DTEND:20180905T200000Z
X-MICROSOFT-CDO-ALLDAYEVENT:FALSE
SUMMARY:Every Child has a Chance! It's You!
DESCRIPTION:Join CASA for Kids as a CASA Advocate to be the "eyes and ears" for the court and the "voice" for the child! \n\nApply online to become an advocate! \n\nOur next training dates to become a CASA Advocate are Sept. 5th\, 12th\, 15th\, and 19th from 9:00am- 3:00pm.
X-ALT-DESC;FMTTYPE=text/html:<h2 style="text-align: center\;"><strong>Join CASA for Kids as a CASA Advocate to be the &quot\;eyes and ears&quot\; for the court and the &quot\;voice&quot\; for the child! </strong></h2>\n\n<h3 style="text-align: center\;"><strong>Apply online to become an advocate!&nbsp\;</strong></h3>\n\n<div style="text-align: center\;">Our next training dates to become a CASA Advocate are Sept. 5th\, 12th\, 15th\, and 19th from 9:00am- 3:00pm.&nbsp\;</div>\n
LOCATION:Training will be at our CASA office at 1500 South Day Street Brenham\, TX 77833
UID:e.2500.6936
SEQUENCE:3
DTSTAMP:20260422T204616Z
URL:https://business.bellville.com/events/details/every-child-has-a-chance-it-s-you-09-05-2018-6936
END:VEVENT

END:VCALENDAR
