BEGIN:VCALENDAR
VERSION:2.0
PRODID:-//ChamberMaster//Event Calendar 2.0//EN
METHOD:PUBLISH
X-PUBLISHED-TTL:P3D
REFRESH-INTERVAL:P3D
CALSCALE:GREGORIAN
BEGIN:VEVENT
DTSTART:20180609T140000Z
DTEND:20180609T210000Z
X-MICROSOFT-CDO-ALLDAYEVENT:FALSE
SUMMARY:Every Child has a Chance! It's You!
DESCRIPTION:When a child enters the foster care system because his or her home is no longer safe\, a judge may appoint a committed volunteer to help them. That volunteer is called a Court Appointed Special Advocate \, or CASA.\n\n\n\nCASA volunteers are screened and highly trained and then appointed by judges to represent and advocate for a child's best interests in the child protection system. CASA volunteers serve as the "eyes and ears" for the court and the "voice" for the child.\n\n\n\nCASA volunteers are frequently the only stable presence in these children's lives as they navigate the foster care system. These volunteers bring three critical qualities to their work: they focus on one case at a time\; they bring a unique perspective to the court case\; and their sole objective is representing the best interests of the child.\n\n\n\nA CASA Volunteer must:\n\n* Be 21 years of age or older\n\n* Successfully pass screening and background check requirements\n\n* Successfully complete initial in-depth training provided by the\n\nCASA for Kids of South Central Texas program\n\n* Be able to make a 12-month minimum commitment to a case\n\n(An average of 10-12 hours per month)\n\n* Be able to keep information confidential and work within\n\nestablished program guidelines\n\n\n\nJoin CASA for Kids of South Central Texas at our next Pre-Service Training. If the Advocate role may not be the right fit\, but you still want to help our mission\, we have other opportunities available: CASA Crusaders ("Friends" of CASA)\, Corporate Sponsors\, Donors\, Legislative Advocacy Team\, Speaker's Bureau\, etc.\n\n\n\nFill out an online application at https://wespeak4kids.org/volunteer/
X-ALT-DESC;FMTTYPE=text/html:<span style="color:#1D2129"><span style="font-family:helvetica\,sans-serif"><span style="font-size:10.5pt">When a child enters the foster care system because his or her home is no longer safe\, a judge may appoint a committed volunteer to help them. That volunteer is called a Court Appointed Special Advocate&reg\;\, or CASA.<br />\n<br />\nCASA volunteers are screened and highly trained and then appointed by judges to represent and advocate for a child&rsquo\;s best interests in the child protection system. CASA volunteers serve as the &ldquo\;eyes and ears&rdquo\; for the court and the &quot\;voice&quot\; for the child.<br />\n<br />\nCASA volunteers are frequently the only stable presence in these children&rsquo\;s lives as they navigate the foster care system. These volunteers bring three critical qualities to their work: they focus on one case at a time\; they bring a unique perspective to the court case\; and their sole objective is representing the best interests of the child.<br />\n<br />\nA CASA Volunteer must:<br />\n* Be 21 years of age or older<br />\n* Successfully pass screening and background check requirements<br />\n* Successfully complete initial in-depth training provided by the<br />\nCASA for Kids of South Central Texas program<br />\n* Be able to make a 12-month minimum commitment to a case<br />\n(An average of 10-12 hours per month)<br />\n* Be able to keep information confidential and work within<br />\nestablished program guidelines<br />\n<br />\nJoin CASA for Kids of South Central Texas at our next Pre-Service Training. If the Advocate role may not be the right fit\, but you still want to help our mission\, we have other opportunities available: CASA Crusaders (&quot\;Friends&quot\; of CASA)\, Corporate Sponsors\, Donors\, Legislative Advocacy Team\, Speaker&#39\;s Bureau\, etc.<br />\n<br />\nFill out an online application at </span></span></span><a href="https://l.facebook.com/l.php?u=https%3A%2F%2Fwespeak4kids.org%2Fvolunteer%2F&amp\;h=ATMCBRh6NzKTBz58Vmzi8BEDD7pXODJwpZ_8fU7HbzI2KzTiwkMrAjeCWsyAgtDOesdrMjeyWI6FTSCups0bWl4NMfWNtFd-DXDn7i0UzZWPm7y4mQ&amp\;s=1"><span style="color:#365899"><span style="font-family:helvetica\,sans-serif"><span style="font-size:10.5pt">https://wespeak4kids.org/volunteer/</span></span></span></a>
LOCATION:CASA Office: 1500 South Day Street Brenham\, TX 77833
UID:e.2500.6718
SEQUENCE:3
DTSTAMP:20260423T000530Z
URL:https://business.bellville.com/events/details/every-child-has-a-chance-it-s-you-06-09-2018-6718
END:VEVENT

END:VCALENDAR
