BEGIN:VCALENDAR
VERSION:2.0
PRODID:-//ChamberMaster//Event Calendar 2.0//EN
METHOD:PUBLISH
X-PUBLISHED-TTL:P3D
REFRESH-INTERVAL:P3D
CALSCALE:GREGORIAN
BEGIN:VEVENT
DTSTART:20160325T150000Z
DTEND:20160325T180000Z
X-MICROSOFT-CDO-ALLDAYEVENT:FALSE
SUMMARY:Emmanuel Sanders Welcome & Community Easter Party
DESCRIPTION:Come out to welcome home Emmanuel Sanders\, Denver Broncos Super Bowl champion and enjoy Easter egg hunt\, refreshments\, bounce house and family fun.  Free vision tests for children will be provided by the Lions Club.   Please Note:  No autographs or business discussions with Emmanuel will be permitted to allow the festivities to remain family-focused.
X-ALT-DESC;FMTTYPE=text/html:Come out to welcome home Emmanuel Sanders\, Denver Broncos Super Bowl champion and enjoy Easter egg hunt\, refreshments\, bounce house and family fun. &nbsp\;Free vision tests for children will be provided by the Lions Club. &nbsp\;&nbsp\;Please Note: &nbsp\;No autographs or business discussions with Emmanuel will be permitted to allow the festivities to remain family-focused.
LOCATION:Clark Park 650 N Holland Bellville\, TX 77418
UID:e.2500.1343
SEQUENCE:3
DTSTAMP:20260424T204123Z
URL:https://business.bellville.com/events/details/emmanuel-sanders-welcome-community-easter-party-03-25-2016-1343
END:VEVENT

END:VCALENDAR
