BEGIN:VCALENDAR
VERSION:2.0
PRODID:-//ChamberMaster//Event Calendar 2.0//EN
METHOD:PUBLISH
X-PUBLISHED-TTL:P3D
REFRESH-INTERVAL:P3D
CALSCALE:GREGORIAN
BEGIN:VEVENT
DTSTART:20160624T180000Z
DTEND:20160625T010000Z
X-MICROSOFT-CDO-ALLDAYEVENT:FALSE
SUMMARY:Emmanuel Sanders Invitational Golf Tournament
DESCRIPTION:The Annual Emmanuel Sanders Invitational Golf Tournament benefitting Raising Academic Performance (RAP)
X-ALT-DESC;FMTTYPE=text/html:The Annual Emmanuel Sanders Invitational Golf Tournament benefitting Raising Academic Performance (RAP)
LOCATION:Bellville Golf and Recreational Club Bellville\, Texas
UID:e.2500.1491
SEQUENCE:3
DTSTAMP:20260424T144136Z
URL:https://business.bellville.com/events/details/emmanuel-sanders-invitational-golf-tournament-06-24-2016-1491
END:VEVENT

END:VCALENDAR
