BEGIN:VCALENDAR
VERSION:2.0
PRODID:-//ChamberMaster//Event Calendar 2.0//EN
METHOD:PUBLISH
X-PUBLISHED-TTL:P3D
REFRESH-INTERVAL:P3D
CALSCALE:GREGORIAN
BEGIN:VEVENT
DTSTART:20160923T230000Z
DTEND:20160923T170000Z
X-MICROSOFT-CDO-ALLDAYEVENT:FALSE
SUMMARY:Emery's Buffalo Creek Wine Event
DESCRIPTION:Wine\, Dine\, and Unwind with music by Mason Marek and Chance Weige
X-ALT-DESC;FMTTYPE=text/html:Wine\, Dine\, and Unwind with music by Mason Marek and Chance Weige
LOCATION:Emery's Buffalo Creek 10827 HWY 36 Bellville\, TX
UID:e.2500.1777
SEQUENCE:3
DTSTAMP:20260424T094309Z
URL:https://business.bellville.com/events/details/emery-s-buffalo-creek-wine-event-1777
END:VEVENT

END:VCALENDAR
