BEGIN:VCALENDAR
VERSION:2.0
PRODID:-//ChamberMaster//Event Calendar 2.0//EN
METHOD:PUBLISH
X-PUBLISHED-TTL:P3D
REFRESH-INTERVAL:P3D
CALSCALE:GREGORIAN
BEGIN:VEVENT
DTSTART:20170304T143000Z
DTEND:20170304T183000Z
X-MICROSOFT-CDO-ALLDAYEVENT:FALSE
SUMMARY:El Roi Conference
DESCRIPTION:
X-ALT-DESC;FMTTYPE=text/html:
LOCATION:Bellville United Methodist Church 234 S. Masonic St. Bellville\, TX 77418
UID:e.2500.3201
SEQUENCE:3
DTSTAMP:20260424T001728Z
URL:https://business.bellville.com/events/details/el-roi-conference-3201
END:VEVENT

END:VCALENDAR
