BEGIN:VCALENDAR
VERSION:2.0
PRODID:-//ChamberMaster//Event Calendar 2.0//EN
METHOD:PUBLISH
X-PUBLISHED-TTL:P3D
REFRESH-INTERVAL:P3D
CALSCALE:GREGORIAN
BEGIN:VEVENT
DTSTART:20180724T150000Z
DTEND:20180724T163000Z
X-MICROSOFT-CDO-ALLDAYEVENT:FALSE
SUMMARY:EGYPT - stories from the Bible for women of all denominations
DESCRIPTION:
X-ALT-DESC;FMTTYPE=text/html:
LOCATION:St Mary's Episcopal Church 24 N. Masonic Bellville TX 77418
UID:e.2500.6904
SEQUENCE:3
DTSTAMP:20260422T223920Z
URL:https://business.bellville.com/events/details/egypt-stories-from-the-bible-for-women-of-all-denominations-6904
END:VEVENT

END:VCALENDAR
