BEGIN:VCALENDAR
VERSION:2.0
PRODID:-//ChamberMaster//Event Calendar 2.0//EN
METHOD:PUBLISH
X-PUBLISHED-TTL:P3D
REFRESH-INTERVAL:P3D
CALSCALE:GREGORIAN
BEGIN:VEVENT
DTSTART:20181219T000000Z
DTEND:20181219T030000Z
X-MICROSOFT-CDO-ALLDAYEVENT:FALSE
SUMMARY:Dysfunctional Family Christmas @ The Kenney Store
DESCRIPTION:Featuring\n\nBrennen Leigh\n\nSunny Sweeney\n\nBri Bagwell
X-ALT-DESC;FMTTYPE=text/html:<strong>Featuring</strong><br />\nBrennen Leigh<br />\nSunny Sweeney<br />\nBri Bagwell
LOCATION:
UID:e.2500.7016
SEQUENCE:3
DTSTAMP:20260422T135859Z
URL:https://business.bellville.com/events/details/dysfunctional-family-christmas-the-kenney-store-12-18-2018-7016
END:VEVENT

END:VCALENDAR
