BEGIN:VCALENDAR
VERSION:2.0
PRODID:-//ChamberMaster//Event Calendar 2.0//EN
METHOD:PUBLISH
X-PUBLISHED-TTL:P3D
REFRESH-INTERVAL:P3D
CALSCALE:GREGORIAN
BEGIN:VEVENT
DTSTART:20180410T233000Z
DTEND:20180411T003000Z
X-MICROSOFT-CDO-ALLDAYEVENT:FALSE
SUMMARY:Drug Awareness and Prevention Program
DESCRIPTION:
X-ALT-DESC;FMTTYPE=text/html:
LOCATION:Bellville United Methodist Activity Center 234 S Masonic Bellville TX 77418
UID:e.2500.5849
SEQUENCE:3
DTSTAMP:20260423T033338Z
URL:https://business.bellville.com/events/details/drug-awareness-and-prevention-program-5849
END:VEVENT

END:VCALENDAR
