BEGIN:VCALENDAR
VERSION:2.0
PRODID:-//ChamberMaster//Event Calendar 2.0//EN
METHOD:PUBLISH
X-PUBLISHED-TTL:P3D
REFRESH-INTERVAL:P3D
CALSCALE:GREGORIAN
BEGIN:VEVENT
DTSTART:20160206T000000Z
DTEND:20160206T050000Z
X-MICROSOFT-CDO-ALLDAYEVENT:FALSE
SUMMARY:Drew Kennedy and Jamie Lin Wilson live at Buffalo Creek
DESCRIPTION:acoustic song swap with 2 creative singer songwriters\; Drew Kennedy http://www.drewkennedymusic.com/about/ and Jamie Lin Wilson http://jamielinwilson.com/
X-ALT-DESC;FMTTYPE=text/html:acoustic song swap with 2 creative singer songwriters\; Drew Kennedy http://www.drewkennedymusic.com/about/ and Jamie Lin Wilson http://jamielinwilson.com/
LOCATION:10827 Hwy 36 S. between Bellville and Sealy
UID:e.2500.556
SEQUENCE:3
DTSTAMP:20260424T221824Z
URL:https://business.bellville.com/events/details/drew-kennedy-and-jamie-lin-wilson-live-at-buffalo-creek-02-05-2016-556
END:VEVENT

END:VCALENDAR
