BEGIN:VCALENDAR
VERSION:2.0
PRODID:-//ChamberMaster//Event Calendar 2.0//EN
METHOD:PUBLISH
X-PUBLISHED-TTL:P3D
REFRESH-INTERVAL:P3D
CALSCALE:GREGORIAN
BEGIN:VEVENT
DTSTART:20170819T150000Z
DTEND:20170820T010000Z
X-MICROSOFT-CDO-ALLDAYEVENT:FALSE
SUMMARY:Dog Days of Summer 2 Person Scramble Golf Tournament
DESCRIPTION:
X-ALT-DESC;FMTTYPE=text/html:
LOCATION:Bellville Golf and Recreation Club 2426 Hwy 36 N Bellville\, TX 77418
UID:e.2500.3575
SEQUENCE:3
DTSTAMP:20260423T163719Z
URL:https://business.bellville.com/events/details/dog-days-of-summer-2-person-scramble-golf-tournament-3575
END:VEVENT

END:VCALENDAR
