BEGIN:VCALENDAR
VERSION:2.0
PRODID:-//ChamberMaster//Event Calendar 2.0//EN
METHOD:PUBLISH
X-PUBLISHED-TTL:P3D
REFRESH-INTERVAL:P3D
CALSCALE:GREGORIAN
BEGIN:VEVENT
DTSTART:20180817T233000Z
DTEND:20180818T033000Z
X-MICROSOFT-CDO-ALLDAYEVENT:FALSE
SUMMARY:Dog Days of Summer 2 Person Scramble
DESCRIPTION:
X-ALT-DESC;FMTTYPE=text/html:
LOCATION:Bellville Golf & Recreation
UID:e.2500.6927
SEQUENCE:3
DTSTAMP:20260422T222928Z
URL:https://business.bellville.com/events/details/dog-days-of-summer-2-person-scramble-6927
END:VEVENT

END:VCALENDAR
