BEGIN:VCALENDAR
VERSION:2.0
PRODID:-//ChamberMaster//Event Calendar 2.0//EN
METHOD:PUBLISH
X-PUBLISHED-TTL:P3D
REFRESH-INTERVAL:P3D
CALSCALE:GREGORIAN
BEGIN:VEVENT
DTSTART:20161130T000000Z
DTEND:20161130T013000Z
X-MICROSOFT-CDO-ALLDAYEVENT:FALSE
SUMMARY:Divorce Care
DESCRIPTION:Find Help--Discover Hope -- Experience Healing Divorce Care is a 13 week seminar and support group for those who are experiencing separation or divorce. Group meets every Tuesday evening at Christian City Fellowship in Room 110\, from 6-7:30pm from Aug. 30 - Dec. 6. You can start anytime!
X-ALT-DESC;FMTTYPE=text/html:Find Help--Discover Hope -- Experience Healing Divorce Care is a 13 week seminar and support group for those who are experiencing separation or divorce. Group meets every Tuesday evening at Christian City Fellowship in Room 110\, from 6-7:30pm from Aug. 30 - Dec. 6. You can start anytime!
LOCATION:Christian City Fellowship 5243 Hwy 36 Sealy\, TX 77474 (Between Sealy & Bellville)
UID:e.2500.1740
SEQUENCE:3
DTSTAMP:20260424T071114Z
URL:https://business.bellville.com/events/details/divorce-care-11-29-2016-1740
END:VEVENT

END:VCALENDAR
