BEGIN:VCALENDAR
VERSION:2.0
PRODID:-//ChamberMaster//Event Calendar 2.0//EN
METHOD:PUBLISH
X-PUBLISHED-TTL:P3D
REFRESH-INTERVAL:P3D
CALSCALE:GREGORIAN
BEGIN:VEVENT
DTSTART:20170218T140000Z
DTEND:20170218T180000Z
X-MICROSOFT-CDO-ALLDAYEVENT:FALSE
SUMMARY:Difference Makers 1K/5K/10K
DESCRIPTION:
X-ALT-DESC;FMTTYPE=text/html:
LOCATION:Levine Park Sealy\, Texas
UID:e.2500.3195
SEQUENCE:3
DTSTAMP:20260424T015107Z
URL:https://business.bellville.com/events/details/difference-makers-1k-5k-10k-3195
END:VEVENT

END:VCALENDAR
