BEGIN:VCALENDAR
VERSION:2.0
PRODID:-//ChamberMaster//Event Calendar 2.0//EN
METHOD:PUBLISH
X-PUBLISHED-TTL:P3D
REFRESH-INTERVAL:P3D
CALSCALE:GREGORIAN
BEGIN:VEVENT
DTSTART:20190217T000000Z
DTEND:20190217T020000Z
X-MICROSOFT-CDO-ALLDAYEVENT:FALSE
SUMMARY:Denim & Diamonds Father/Daughter Banquet
DESCRIPTION:
X-ALT-DESC;FMTTYPE=text/html:
LOCATION:First Baptist Bellville 4099 N Hwy 36 Bellville TX 77418
UID:e.2500.7253
SEQUENCE:3
DTSTAMP:20260422T104620Z
URL:https://business.bellville.com/events/details/denim-diamonds-father-daughter-banquet-7253
END:VEVENT

END:VCALENDAR
