BEGIN:VCALENDAR
VERSION:2.0
PRODID:-//ChamberMaster//Event Calendar 2.0//EN
METHOD:PUBLISH
X-PUBLISHED-TTL:P3D
REFRESH-INTERVAL:P3D
CALSCALE:GREGORIAN
BEGIN:VEVENT
DTSTART:20180316T000000Z
DTEND:20180316T013000Z
X-MICROSOFT-CDO-ALLDAYEVENT:FALSE
SUMMARY:Debbie Nelson-Campbell Presents: Paris-Round Top Library
DESCRIPTION:FOR YOUR INFORMATION presents DEBBIE NELSON-CAMPBELL Paris\, France NOT the Eiffel Tower NOT the Arc de Triomphe NOT the Champs -Elysees The Paris few people know. Thursday\, March 15\, 2018 at 7:00pm Round Top Family Library 206 W. Mill St. Round Top TX\, 78954 free event
X-ALT-DESC;FMTTYPE=text/html:FOR YOUR INFORMATION&hellip\;presents DEBBIE NELSON-CAMPBELL Paris\, France NOT the Eiffel Tower NOT the Arc de Triomphe NOT the Champs -Elysees The Paris few people know. Thursday\, March 15\, 2018 at 7:00pm Round Top Family Library 206 W. Mill St. Round Top TX\, 78954 free event
LOCATION:Round Top Family Library 206 W. Mill St. Round Top TX\, 78954 free event
UID:e.2500.3748
SEQUENCE:3
DTSTAMP:20260423T053100Z
URL:https://business.bellville.com/events/details/debbie-nelson-campbell-presents-paris-round-top-library-3748
END:VEVENT

END:VCALENDAR
