BEGIN:VCALENDAR
VERSION:2.0
PRODID:-//ChamberMaster//Event Calendar 2.0//EN
METHOD:PUBLISH
X-PUBLISHED-TTL:P3D
REFRESH-INTERVAL:P3D
CALSCALE:GREGORIAN
BEGIN:VEVENT
DTSTART:20170120T230000Z
DTEND:20170121T010000Z
X-MICROSOFT-CDO-ALLDAYEVENT:FALSE
SUMMARY:Danny's Automotive 25th Anniversary Celebration and Business After Hours
DESCRIPTION:FURTHER DETAILS TO FOLLOW
X-ALT-DESC;FMTTYPE=text/html:FURTHER DETAILS TO FOLLOW
LOCATION:
UID:e.2500.3163
SEQUENCE:3
DTSTAMP:20260424T052621Z
URL:https://business.bellville.com/events/details/danny-s-automotive-25th-anniversary-celebration-and-business-after-hours-3163
END:VEVENT

END:VCALENDAR
