BEGIN:VCALENDAR
VERSION:2.0
PRODID:-//ChamberMaster//Event Calendar 2.0//EN
METHOD:PUBLISH
X-PUBLISHED-TTL:P3D
REFRESH-INTERVAL:P3D
CALSCALE:GREGORIAN
BEGIN:VEVENT
DTSTART:20180802T150000Z
DTEND:20180802T170000Z
X-MICROSOFT-CDO-ALLDAYEVENT:FALSE
SUMMARY:Dairy Queen - Children's Miracle Network Day
DESCRIPTION:Buy a $3.67 card for a 12oz.Blizzard and all proceeds support Children's Miracle Network to help children with cancer and premature babies
X-ALT-DESC;FMTTYPE=text/html:Buy a $3.67 card for a 12oz.Blizzard and all proceeds support Children&#39\;s Miracle Network to help children with cancer and premature babies
LOCATION:421 E. Main St Bellville TX 77418
UID:e.2500.6911
SEQUENCE:3
DTSTAMP:20260422T222331Z
URL:https://business.bellville.com/events/details/dairy-queen-children-s-miracle-network-day-6911
END:VEVENT

END:VCALENDAR
