BEGIN:VCALENDAR
VERSION:2.0
PRODID:-//ChamberMaster//Event Calendar 2.0//EN
METHOD:PUBLISH
X-PUBLISHED-TTL:P3D
REFRESH-INTERVAL:P3D
CALSCALE:GREGORIAN
BEGIN:VEVENT
DTSTART:20180610T173000Z
DTEND:20180610T213000Z
X-MICROSOFT-CDO-ALLDAYEVENT:FALSE
SUMMARY:Craft Beer Fest @ The Kenney Store
DESCRIPTION:
X-ALT-DESC;FMTTYPE=text/html:
LOCATION:
UID:e.2500.6734
SEQUENCE:3
DTSTAMP:20260423T014953Z
URL:https://business.bellville.com/events/details/craft-beer-fest-the-kenney-store-6734
END:VEVENT

END:VCALENDAR
