BEGIN:VCALENDAR
VERSION:2.0
PRODID:-//ChamberMaster//Event Calendar 2.0//EN
METHOD:PUBLISH
X-PUBLISHED-TTL:P3D
REFRESH-INTERVAL:P3D
CALSCALE:GREGORIAN
BEGIN:VEVENT
DTSTART:20170527T020000Z
DTEND:20170527T045500Z
X-MICROSOFT-CDO-ALLDAYEVENT:FALSE
SUMMARY:Concert at Emery's
DESCRIPTION:Jerrett Zoch and OSR Band Summer Concert
X-ALT-DESC;FMTTYPE=text/html:Jerrett Zoch and OSR Band Summer Concert
LOCATION:Emery's Buffalo Creek 10827 HWY 36 Bellville\, TX 77418
UID:e.2500.3388
SEQUENCE:3
DTSTAMP:20260423T205625Z
URL:https://business.bellville.com/events/details/concert-at-emery-s-3388
END:VEVENT

END:VCALENDAR
